BEGIN:VCALENDAR
VERSION:2.0
PRODID:-//Wooddale Church - ECPv6.15.20//NONSGML v1.0//EN
CALSCALE:GREGORIAN
METHOD:PUBLISH
X-WR-CALNAME:Wooddale Church
X-ORIGINAL-URL:https://wooddale.org
X-WR-CALDESC:Events for Wooddale Church
REFRESH-INTERVAL;VALUE=DURATION:PT1H
X-Robots-Tag:noindex
X-PUBLISHED-TTL:PT1H
BEGIN:VTIMEZONE
TZID:America/Chicago
BEGIN:DAYLIGHT
TZOFFSETFROM:-0600
TZOFFSETTO:-0500
TZNAME:CDT
DTSTART:20250309T080000
END:DAYLIGHT
BEGIN:STANDARD
TZOFFSETFROM:-0500
TZOFFSETTO:-0600
TZNAME:CST
DTSTART:20251102T070000
END:STANDARD
BEGIN:DAYLIGHT
TZOFFSETFROM:-0600
TZOFFSETTO:-0500
TZNAME:CDT
DTSTART:20260308T080000
END:DAYLIGHT
BEGIN:STANDARD
TZOFFSETFROM:-0500
TZOFFSETTO:-0600
TZNAME:CST
DTSTART:20261101T070000
END:STANDARD
BEGIN:DAYLIGHT
TZOFFSETFROM:-0600
TZOFFSETTO:-0500
TZNAME:CDT
DTSTART:20270314T080000
END:DAYLIGHT
BEGIN:STANDARD
TZOFFSETFROM:-0500
TZOFFSETTO:-0600
TZNAME:CST
DTSTART:20271107T070000
END:STANDARD
END:VTIMEZONE
BEGIN:VEVENT
DTSTART;TZID=America/Chicago:20260503T114500
DTEND;TZID=America/Chicago:20260503T130000
DTSTAMP:20260425T222804
CREATED:20260119T140435Z
LAST-MODIFIED:20260412T205904Z
UID:10001335-1777808700-1777813200@wooddale.org
SUMMARY:SERVE: Discover
DESCRIPTION:Want to make a difference? Start here.\nGod has uniquely shaped you—with gifts\, passions and experiences that matter. When you use them to serve others\, something beautiful happens: lives are touched\, community grows and faith comes alive. If you’ve been wondering where you fit\, longing to give back or hoping to find deeper connection and purpose\, Serve: Discover is your first step. \nWhat you can expect\nThis isn’t about filling a spot or signing up for something before you’re ready. It’s about discovering where you might naturally belong. Whether you love welcoming people\, enjoy brewing coffee\, have leadership gifts or feel called to invest in kids and students\, there’s a place for you to get involved. \nAt Serve: Discover\, you will: \n\nLearn about serving: Discover the expectations\, opportunities and impact of serving at Wooddale.\nExplore serving options: Learn about the different serve teams and ministries you could be part of.\nDiscover your fit: Reflect on your gifts and passions and how they can be used to bless others in meaningful ways.\n\nWho this is for\nThis class is for everyone—whether you’re new to Wooddale\, have been here for years\, or are simply curious about serving. If you’re unsure where you want to serve\, that’s completely okay. Serve: Discover is a no-pressure space to listen\, learn and take your next step at your own pace. \nLunch will be served during the class.
URL:https://wooddale.org/cal/serve-discover-5-3/
LOCATION:Eden Prairie Campus\, 6630 Shady Oak Rd\, Eden Prairie\, MN\, 55344
CATEGORIES:Events
GEO:44.8812636;-93.4169101
X-APPLE-STRUCTURED-LOCATION;VALUE=URI;X-ADDRESS=Eden Prairie Campus 6630 Shady Oak Rd Eden Prairie MN 55344;X-APPLE-RADIUS=500;X-TITLE=6630 Shady Oak Rd:geo:-93.4169101,44.8812636
END:VEVENT
BEGIN:VEVENT
DTSTART;TZID=America/Chicago:20260506T201500
DTEND;TZID=America/Chicago:20260506T211500
DTSTAMP:20260425T222804
CREATED:20250728T140815Z
LAST-MODIFIED:20250728T140815Z
UID:10001253-1778098500-1778102100@wooddale.org
SUMMARY:Senior High Pizza & God Talk
DESCRIPTION:Hey 10–12 graders! Looking for a place to ask real questions\, talk about what actually matters and hang out with people your age who get it? Come join us for Senior High Pizza & God Talk. \nWe’re diving into topics from our teaching series\, tackling real-life issues\, and having open\, honest convos — seriously\, no question is off-limits. Whether you’re exploring faith\, figuring things out or just want a chill space to talk\, this is for you. \nOh\, and did we mention…FREE PIZZA \nBring your thoughts\, bring a friend\, and come hungry (mentally and physically). We can’t wait to see you there!
URL:https://wooddale.org/cal/sh-pizza-god-talk-may-2026/
LOCATION:Eden Prairie Campus\, 6630 Shady Oak Rd\, Eden Prairie\, MN\, 55344
CATEGORIES:Events
GEO:44.8812636;-93.4169101
X-APPLE-STRUCTURED-LOCATION;VALUE=URI;X-ADDRESS=Eden Prairie Campus 6630 Shady Oak Rd Eden Prairie MN 55344;X-APPLE-RADIUS=500;X-TITLE=6630 Shady Oak Rd:geo:-93.4169101,44.8812636
END:VEVENT
BEGIN:VEVENT
DTSTART;TZID=America/Chicago:20260517T150000
DTEND;TZID=America/Chicago:20260517T163000
DTSTAMP:20260425T222804
CREATED:20230811T232103Z
LAST-MODIFIED:20251110T201417Z
UID:10000572-1779030000-1779035400@wooddale.org
SUMMARY:Senior Baccalaureate Celebration
DESCRIPTION:Join us for a baccalaureate service\, with light refreshments to follow\, as we honor and celebrate the graduating class of 2026 and the next steps God has for them. \n$5 per guest (graduate is free); $30 max per family unit
URL:https://wooddale.org/cal/senior-baccalaureate-celebration/
LOCATION:Eden Prairie Campus\, 6630 Shady Oak Rd\, Eden Prairie\, MN\, 55344
CATEGORIES:Events
GEO:44.8812636;-93.4169101
X-APPLE-STRUCTURED-LOCATION;VALUE=URI;X-ADDRESS=Eden Prairie Campus 6630 Shady Oak Rd Eden Prairie MN 55344;X-APPLE-RADIUS=500;X-TITLE=6630 Shady Oak Rd:geo:-93.4169101,44.8812636
END:VEVENT
END:VCALENDAR