BEGIN:VCALENDAR
VERSION:2.0
PRODID:-//Wooddale Church - ECPv6.15.20//NONSGML v1.0//EN
CALSCALE:GREGORIAN
METHOD:PUBLISH
X-WR-CALNAME:Wooddale Church
X-ORIGINAL-URL:https://wooddale.org
X-WR-CALDESC:Events for Wooddale Church
REFRESH-INTERVAL;VALUE=DURATION:PT1H
X-Robots-Tag:noindex
X-PUBLISHED-TTL:PT1H
BEGIN:VTIMEZONE
TZID:America/Chicago
BEGIN:DAYLIGHT
TZOFFSETFROM:-0600
TZOFFSETTO:-0500
TZNAME:CDT
DTSTART:20250309T080000
END:DAYLIGHT
BEGIN:STANDARD
TZOFFSETFROM:-0500
TZOFFSETTO:-0600
TZNAME:CST
DTSTART:20251102T070000
END:STANDARD
BEGIN:DAYLIGHT
TZOFFSETFROM:-0600
TZOFFSETTO:-0500
TZNAME:CDT
DTSTART:20260308T080000
END:DAYLIGHT
BEGIN:STANDARD
TZOFFSETFROM:-0500
TZOFFSETTO:-0600
TZNAME:CST
DTSTART:20261101T070000
END:STANDARD
BEGIN:DAYLIGHT
TZOFFSETFROM:-0600
TZOFFSETTO:-0500
TZNAME:CDT
DTSTART:20270314T080000
END:DAYLIGHT
BEGIN:STANDARD
TZOFFSETFROM:-0500
TZOFFSETTO:-0600
TZNAME:CST
DTSTART:20271107T070000
END:STANDARD
END:VTIMEZONE
BEGIN:VEVENT
DTSTART;TZID=America/Chicago:20260607T090000
DTEND;TZID=America/Chicago:20260607T100000
DTSTAMP:20260422T105213
CREATED:20260417T154406Z
LAST-MODIFIED:20260417T154406Z
UID:10001352-1780822800-1780826400@wooddale.org
SUMMARY:10th Grade Welcome Breakfast
DESCRIPTION:Welcome class of 2029! The Senior High is hyped to officially welcome our new 10th graders with a massive kickoff breakfast in the Great Room. We’re rolling out a full spread featuring everything you actually want—fresh bagels with cream cheese\, donuts\, cereal\, chilled orange juice and more. It’s totally free\, so come fuel up\, grab a seat and get to know your new classmates and the amazing Senior High leaders who are here to help you navigate the year. Don’t miss out on the food or the vibes; we can’t wait to see you there! \nFree | No registration needed
URL:https://wooddale.org/cal/10th-grade-welcome-breakfast/
LOCATION:Eden Prairie Campus\, 6630 Shady Oak Rd\, Eden Prairie\, MN\, 55344
CATEGORIES:Events
GEO:44.8812636;-93.4169101
X-APPLE-STRUCTURED-LOCATION;VALUE=URI;X-ADDRESS=Eden Prairie Campus 6630 Shady Oak Rd Eden Prairie MN 55344;X-APPLE-RADIUS=500;X-TITLE=6630 Shady Oak Rd:geo:-93.4169101,44.8812636
END:VEVENT
BEGIN:VEVENT
DTSTART;TZID=America/Chicago:20260607T113000
DTEND;TZID=America/Chicago:20260607T150000
DTSTAMP:20260422T105213
CREATED:20250728T140613Z
LAST-MODIFIED:20260210T174148Z
UID:10001237-1780831800-1780844400@wooddale.org
SUMMARY:7th Grade Welcome Party
DESCRIPTION:We set aside the afternoon to focus solely on our new class and help them to feel connected to a new ministry. Parents will bring students to room 100 to check in after the last service. After all registered students are checked in\, we’ll load the bus for our day of fun\, food and friendship. Lunch is included in the cost (dietary issues can be noted when registering online). Parents can pick up students at Wooddale’s door 5 at 3pm. This event is vital for all our 7th graders!
URL:https://wooddale.org/cal/grade-7-welcome-party/
LOCATION:Offsite
CATEGORIES:Events
END:VEVENT
BEGIN:VEVENT
DTSTART;TZID=America/Chicago:20260607T114500
DTEND;TZID=America/Chicago:20260607T130000
DTSTAMP:20260422T105213
CREATED:20260119T140531Z
LAST-MODIFIED:20260205T224115Z
UID:10001336-1780832700-1780837200@wooddale.org
SUMMARY:SERVE: Discover
DESCRIPTION:Want to make a difference? Start here.\nGod has uniquely shaped you—with gifts\, passions and experiences that matter. When you use them to serve others\, something beautiful happens: lives are touched\, community grows and faith comes alive. If you’ve been wondering where you fit\, longing to give back or hoping to find deeper connection and purpose\, Serve: Discover is your first step. \nWhat you can expect\nThis isn’t about filling a spot or signing up for something before you’re ready. It’s about discovering where you might naturally belong. Whether you love welcoming people\, enjoy brewing coffee\, have leadership gifts or feel called to invest in kids and students\, there’s a place for you to get involved. \nAt Serve: Discover\, you will: \n\nLearn about serving: Discover the expectations\, opportunities and impact of serving at Wooddale.\nExplore serving options: Learn about the different serve teams and ministries you could be part of.\nDiscover your fit: Reflect on your gifts and passions and how they can be used to bless others in meaningful ways.\n\nWho this is for\nThis class is for everyone—whether you’re new to Wooddale\, have been here for years\, or are simply curious about serving. If you’re unsure where you want to serve\, that’s completely okay. Serve: Discover is a no-pressure space to listen\, learn and take your next step at your own pace. \nLunch will be served during the class.
URL:https://wooddale.org/cal/serve-discover-6-7/
LOCATION:All Campus Locations
CATEGORIES:Events
END:VEVENT
BEGIN:VEVENT
DTSTART;TZID=America/Chicago:20260610T183000
DTEND;TZID=America/Chicago:20260610T200000
DTSTAMP:20260422T105213
CREATED:20250728T140816Z
LAST-MODIFIED:20250728T140816Z
UID:10001254-1781116200-1781121600@wooddale.org
SUMMARY:Senior High Summer @ the Park
DESCRIPTION:Looking for a fun way to spend your summer evenings? Join us Wednesday nights from 6:30–8 p.m. at Riley Lake Park for Summer @ the Park — a relaxed hangout just for 10th–12th grade students. \nWe’ll have games\, snacks\, devotions and plenty of time to connect with friends. It’s the perfect midweek break to enjoy the outdoors\, have meaningful conversations and grow in community. \nBring a friend and come be part of something awesome this summer.
URL:https://wooddale.org/cal/sh-summer-park-archived/
LOCATION:Offsite
CATEGORIES:Events
END:VEVENT
BEGIN:VEVENT
DTSTART;TZID=America/Chicago:20260610T183000
DTEND;TZID=America/Chicago:20260610T203000
DTSTAMP:20260422T105213
CREATED:20250716T150303Z
LAST-MODIFIED:20250716T171935Z
UID:10001134-1781116200-1781123400@wooddale.org
SUMMARY:5/6 Backyard Hangout
DESCRIPTION:During the summer\, our 5th- and 6th-grade students like to hang out together. We will be at students’ homes to play games and enjoy snacks. No registration needed. $5 at the door.
URL:https://wooddale.org/cal/backyard-hangout-jun-2026/
LOCATION:Offsite
CATEGORIES:Events
END:VEVENT
BEGIN:VEVENT
DTSTART;VALUE=DATE:20260615
DTEND;VALUE=DATE:20260619
DTSTAMP:20260422T105213
CREATED:20250716T151300Z
LAST-MODIFIED:20260114T190733Z
UID:10001172-1781481600-1781827199@wooddale.org
SUMMARY:Camp Woods Kids 2026
DESCRIPTION:Camp Woods Kids is a half-day summer program for kids ages 3 years old – grade 4\, June 15-18\, 2026\, from 9 a.m. to noon each day. The program is available at Wooddale’s Eden Prairie and Edina campuses. Kids can expect a week full of awesome activities\, music\, snacks\, crafts and adventures to help them experience the love of Jesus. \nLearn more >
URL:https://wooddale.org/cal/camp-woods-kids/
LOCATION:All Campus Locations
CATEGORIES:Events
END:VEVENT
BEGIN:VEVENT
DTSTART;TZID=America/Chicago:20260617T180000
DTEND;TZID=America/Chicago:20260617T200000
DTSTAMP:20260422T105213
CREATED:20250430T162129Z
LAST-MODIFIED:20260417T145128Z
UID:10001054-1781719200-1781726400@wooddale.org
SUMMARY:Junior High Church Chill
DESCRIPTION:Looking for a way to hang out\, have fun and just be yourself with friends old and new? Come to Church Chill! We’ve got all the good stuff you want – snacks to fuel your energy\, games to bring the laughs and plenty of free time to chill. \nIt’s the perfect chance to kick back\, meet new people\, and make awesome memories. Whether you’re in it for the snacks\, the games or just chilling with others\, this is where the fun happens. \nDon’t forget to invite a friend! \n$10 if you register; $15 at the door
URL:https://wooddale.org/cal/jh-church-chill/
LOCATION:Eden Prairie Campus\, 6630 Shady Oak Rd\, Eden Prairie\, MN\, 55344
CATEGORIES:Events
GEO:44.8812636;-93.4169101
X-APPLE-STRUCTURED-LOCATION;VALUE=URI;X-ADDRESS=Eden Prairie Campus 6630 Shady Oak Rd Eden Prairie MN 55344;X-APPLE-RADIUS=500;X-TITLE=6630 Shady Oak Rd:geo:-93.4169101,44.8812636
END:VEVENT
BEGIN:VEVENT
DTSTART;TZID=America/Chicago:20260617T183000
DTEND;TZID=America/Chicago:20260617T200000
DTSTAMP:20260422T105213
CREATED:20250728T140816Z
LAST-MODIFIED:20250728T140817Z
UID:10001255-1781721000-1781726400@wooddale.org
SUMMARY:Senior High Summer @ the Park
DESCRIPTION:Looking for a fun way to spend your summer evenings? Join us Wednesday nights from 6:30–8 p.m. at Riley Lake Park for Summer @ the Park — a relaxed hangout just for 10th–12th grade students. \nWe’ll have games\, snacks\, devotions and plenty of time to connect with friends. It’s the perfect midweek break to enjoy the outdoors\, have meaningful conversations and grow in community. \nBring a friend and come be part of something awesome this summer.
URL:https://wooddale.org/cal/sh-summer-park-archived-2/
LOCATION:Offsite
CATEGORIES:Events
END:VEVENT
BEGIN:VEVENT
DTSTART;VALUE=DATE:20260621
DTEND;VALUE=DATE:20260628
DTSTAMP:20260422T105213
CREATED:20250716T150303Z
LAST-MODIFIED:20251014T212243Z
UID:10001133-1782000000-1782604799@wooddale.org
SUMMARY:5/6 Summer Camp
DESCRIPTION:Get ready for the ultimate summer adventure! From June 21-26\, our 5th and 6th graders will be heading to Trout Lake Camp for a week packed with fun\, friendships and faith-building experiences. \nFrom thrilling outdoor activities to meaningful moments of connection with God and each other\, this camp promises to be the highlight of your summer. Whether you’re conquering the climbing wall\, paddling across the lake or laughing around the campfire\, every day will be unforgettable. \nDon’t miss out on this amazing opportunity to grow\, explore and make memories that will last a lifetime!
URL:https://wooddale.org/cal/5-6-grade-summer-camp/
LOCATION:Offsite
CATEGORIES:Events
END:VEVENT
BEGIN:VEVENT
DTSTART;VALUE=DATE:20260628
DTEND;VALUE=DATE:20260629
DTSTAMP:20260422T105213
CREATED:20250808T191722Z
LAST-MODIFIED:20250808T191722Z
UID:10001284-1782604800-1782691199@wooddale.org
SUMMARY:Baptism Celebration
DESCRIPTION:Baptism is an essential part of a Christian’s identification with Jesus Christ. Throughout the book of Acts\, wherever baptism occurred\, it always followed a profession of belief in Jesus. It demonstrates our love and obedience to Jesus and is an outward sign of an inward commitment to follow him. \nBaptism is also a vivid picture of Jesus’ death\, burial and resurrection and a believer’s similar spiritual path. The believer’s old self has been crucified with Christ and buried before coming out of the water raised in the “newness of life.”Baptism displays the beginning of the Christian life\, which is why at Wooddale Church\, baptism is a celebration. We baptize regularly and encourage every believer to be obedient to Christ’s command in the Bible to be baptized. \nWhether you are new to the Christian faith and have not yet been baptized or have been a believer for months or years but have never been baptized after your commitment to Christ\, we encourage you to complete the process of baptism. \nNext baptism dates: \n\nJune 28\, 2026 (registration due by June 14)\nAugust 30\, 2026 (registration due by August 16)\n\nPlease contact our pastoral team if you have questions.
URL:https://wooddale.org/cal/baptism-celebration-6-28/
LOCATION:All Campus Locations
CATEGORIES:Events
END:VEVENT
BEGIN:VEVENT
DTSTART;VALUE=DATE:20260628
DTEND;VALUE=DATE:20260727
DTSTAMP:20260422T105213
CREATED:20250716T152416Z
LAST-MODIFIED:20250716T152417Z
UID:10001229-1782604800-1785110399@wooddale.org
SUMMARY:School Supply Drive
DESCRIPTION:One of Wooddale’s values is to be profoundly generous. We recognize that all our resources come from God and we generously give our talent\, time and treasure to bless others in our community. \nWill you join us? You can make an impact on students at several local schools and their families by joining Wooddale in our annual school supply drive. \nStarting June 22 through July 26\, we are collecting school supplies for students at Eden Lake Elementary and Central Middle School in Eden Prairie and VEAP in Edina. \nThere are three ways you can contribute to the school supply drive: \n\nPick up a tag during a weekend service in the lobby\, purchase the item(s) on the tag and drop them off at Wooddale before July 26.\nMake a financial donation\nPurchase school supplies on Amazon\n\nThank you for joining us as we bless our community in a practical way.
URL:https://wooddale.org/cal/school-supply-drive/
LOCATION:All Campus Locations
CATEGORIES:Events
END:VEVENT
BEGIN:VEVENT
DTSTART;TZID=America/Chicago:20260628T170000
DTEND;TZID=America/Chicago:20260628T190000
DTSTAMP:20260422T105213
CREATED:20250716T151347Z
LAST-MODIFIED:20250716T151348Z
UID:10001179-1782666000-1782673200@wooddale.org
SUMMARY:Get To Know Wooddale
DESCRIPTION:Learn more about Wooddale’s mission\, vision\, values\, history and governance. You will also meet several staff members and learn how to get involved in growth\, serving and giving opportunities.
URL:https://wooddale.org/cal/get-to-know-wooddale-jun-2026/
LOCATION:Eden Prairie Campus\, 6630 Shady Oak Rd\, Eden Prairie\, MN\, 55344
CATEGORIES:Events
GEO:44.8812636;-93.4169101
X-APPLE-STRUCTURED-LOCATION;VALUE=URI;X-ADDRESS=Eden Prairie Campus 6630 Shady Oak Rd Eden Prairie MN 55344;X-APPLE-RADIUS=500;X-TITLE=6630 Shady Oak Rd:geo:-93.4169101,44.8812636
END:VEVENT
BEGIN:VEVENT
DTSTART;TZID=America/Chicago:20260630T093000
DTEND;TZID=America/Chicago:20260630T194500
DTSTAMP:20260422T105213
CREATED:20250728T140615Z
LAST-MODIFIED:20260417T145027Z
UID:10001238-1782811800-1782848700@wooddale.org
SUMMARY:Junior High Wild Mountain
DESCRIPTION:If you’re not enjoying the sun and some water in a Minnesota summer\, are you really living? Wild Mountain Waterpark is the perfect place to enjoy the summer heat while staying cool. \nStudents in grades 7-9 spend the afternoon zipping down water slides\, skipping through the water adventure land\, racing go-karts\, speeding down the alpine slide and being lazy in the Lazy River. Invite a friend\, pack a dinner and have a blast with us!
URL:https://wooddale.org/cal/jh-wild-mountain/
LOCATION:Offsite
CATEGORIES:Events
END:VEVENT
END:VCALENDAR