BEGIN:VCALENDAR
VERSION:2.0
PRODID:-//Wooddale Church - ECPv6.15.20//NONSGML v1.0//EN
CALSCALE:GREGORIAN
METHOD:PUBLISH
X-ORIGINAL-URL:https://wooddale.org
X-WR-CALDESC:Events for Wooddale Church
REFRESH-INTERVAL;VALUE=DURATION:PT1H
X-Robots-Tag:noindex
X-PUBLISHED-TTL:PT1H
BEGIN:VTIMEZONE
TZID:America/Chicago
BEGIN:DAYLIGHT
TZOFFSETFROM:-0600
TZOFFSETTO:-0500
TZNAME:CDT
DTSTART:20250309T080000
END:DAYLIGHT
BEGIN:STANDARD
TZOFFSETFROM:-0500
TZOFFSETTO:-0600
TZNAME:CST
DTSTART:20251102T070000
END:STANDARD
BEGIN:DAYLIGHT
TZOFFSETFROM:-0600
TZOFFSETTO:-0500
TZNAME:CDT
DTSTART:20260308T080000
END:DAYLIGHT
BEGIN:STANDARD
TZOFFSETFROM:-0500
TZOFFSETTO:-0600
TZNAME:CST
DTSTART:20261101T070000
END:STANDARD
BEGIN:DAYLIGHT
TZOFFSETFROM:-0600
TZOFFSETTO:-0500
TZNAME:CDT
DTSTART:20270314T080000
END:DAYLIGHT
BEGIN:STANDARD
TZOFFSETFROM:-0500
TZOFFSETTO:-0600
TZNAME:CST
DTSTART:20271107T070000
END:STANDARD
END:VTIMEZONE
BEGIN:VEVENT
DTSTART;VALUE=DATE:20260628
DTEND;VALUE=DATE:20260727
DTSTAMP:20260422T105117
CREATED:20250716T152416Z
LAST-MODIFIED:20250716T152417Z
UID:10001229-1782604800-1785110399@wooddale.org
SUMMARY:School Supply Drive
DESCRIPTION:One of Wooddale’s values is to be profoundly generous. We recognize that all our resources come from God and we generously give our talent\, time and treasure to bless others in our community. \nWill you join us? You can make an impact on students at several local schools and their families by joining Wooddale in our annual school supply drive. \nStarting June 22 through July 26\, we are collecting school supplies for students at Eden Lake Elementary and Central Middle School in Eden Prairie and VEAP in Edina. \nThere are three ways you can contribute to the school supply drive: \n\nPick up a tag during a weekend service in the lobby\, purchase the item(s) on the tag and drop them off at Wooddale before July 26.\nMake a financial donation\nPurchase school supplies on Amazon\n\nThank you for joining us as we bless our community in a practical way.
URL:https://wooddale.org/cal/school-supply-drive/
LOCATION:All Campus Locations
CATEGORIES:Events
END:VEVENT
BEGIN:VEVENT
DTSTART;TZID=America/Chicago:20260708T110000
DTEND;TZID=America/Chicago:20260708T160000
DTSTAMP:20260422T105117
CREATED:20230811T213628Z
LAST-MODIFIED:20260421T175120Z
UID:10000554-1783508400-1783526400@wooddale.org
SUMMARY:Junior High Water Blast
DESCRIPTION:If your idea of lake fun is going for a leisurely ride on a tube\, being whipped off that tube or learning to wakeboard for the first time\, then Water Blast is for you! Bryant Lake is the ideal place to play in the water and bond with friends on a warm summer day! Eat lunch before you come–significant snacks and beverage will be provided. Bring a water bottle\, sunscreen and a giddy scream! Pick up and drop off at Bryant Lake boat dock near Wooddale. \n 
URL:https://wooddale.org/cal/jh-water-blast/
LOCATION:Offsite
CATEGORIES:Events
ATTACH;FMTTYPE=image/png:https://wooddale.org/wp-content/uploads/2023/04/Water-Blast-Calendar.png
END:VEVENT
BEGIN:VEVENT
DTSTART;TZID=America/Chicago:20260708T183000
DTEND;TZID=America/Chicago:20260708T200000
DTSTAMP:20260422T105117
CREATED:20250728T140915Z
LAST-MODIFIED:20250728T140916Z
UID:10001257-1783535400-1783540800@wooddale.org
SUMMARY:Senior High Summer @ the Park
DESCRIPTION:Looking for a fun way to spend your summer evenings? Join us Wednesday nights from 6:30–8 p.m. at Riley Lake Park for Summer @ the Park — a relaxed hangout just for 10th–12th grade students. \nWe’ll have games\, snacks\, devotions and plenty of time to connect with friends. It’s the perfect midweek break to enjoy the outdoors\, have meaningful conversations and grow in community. \nBring a friend and come be part of something awesome this summer.
URL:https://wooddale.org/cal/sh-summer-park-archived-4/
LOCATION:Offsite
CATEGORIES:Events
END:VEVENT
BEGIN:VEVENT
DTSTART;TZID=America/Chicago:20260708T183000
DTEND;TZID=America/Chicago:20260708T203000
DTSTAMP:20260422T105117
CREATED:20250716T150304Z
LAST-MODIFIED:20250716T171955Z
UID:10001135-1783535400-1783542600@wooddale.org
SUMMARY:5/6 Backyard Hangout
DESCRIPTION:During the summer\, our 5th- and 6th-grade students like to hang out together. We will be at students’ homes to play games and enjoy snacks. No registration needed. $5 at the door.
URL:https://wooddale.org/cal/backyard-hangout-july-8-2026/
LOCATION:Offsite
CATEGORIES:Events
END:VEVENT
BEGIN:VEVENT
DTSTART;TZID=America/Chicago:20260708T200000
DTEND;TZID=America/Chicago:20260708T210000
DTSTAMP:20260422T105117
CREATED:20250425T185851Z
LAST-MODIFIED:20260417T152423Z
UID:10001052-1783540800-1783544400@wooddale.org
SUMMARY:Senior High Pizza @ the Park
DESCRIPTION:Our usual Pizza & God Talk\, but at the park. Enjoy pizza and conversations about Scripture\, our Christian faith and important theological topics with friends. \nPizza @ the Park | 8 – 9 p.m. | $5
URL:https://wooddale.org/cal/sh-pizza-park-7-8/
LOCATION:Offsite
CATEGORIES:Events
END:VEVENT
BEGIN:VEVENT
DTSTART;VALUE=DATE:20260712
DTEND;VALUE=DATE:20260718
DTSTAMP:20260422T105117
CREATED:20250728T140615Z
LAST-MODIFIED:20260417T150733Z
UID:10001239-1783814400-1784332799@wooddale.org
SUMMARY:Junior High AWOL (A Work of Love)
DESCRIPTION:Wooddale students\, are you ready to ignite your faith through service? AWOL (A Work of Love) is a unique mission experience where you’ll collaborate with Mobile Hope of Minnesota and other ministries to deliver an unforgettable Vacation Bible School (VBS) for children in local mobile home parks. \nMore than just volunteering\, AWOL is an immersive journey: \n\nLive in pop-up campers fostering a powerful sense of community and shared purpose.\nConnect deeply with the community as you serve and learn alongside local families.\nLive out your faith alongside fellow students and inspiring leaders.\nShare compassion\, grow spiritually and make a lasting impact.\n\nNote: Acceptance into the program is required for participation.
URL:https://wooddale.org/cal/jh-awol/
LOCATION:Offsite
CATEGORIES:Events
END:VEVENT
BEGIN:VEVENT
DTSTART;TZID=America/Chicago:20260712T114500
DTEND;TZID=America/Chicago:20260712T130000
DTSTAMP:20260422T105117
CREATED:20260119T140611Z
LAST-MODIFIED:20260205T224124Z
UID:10001337-1783856700-1783861200@wooddale.org
SUMMARY:SERVE: Discover
DESCRIPTION:Want to make a difference? Start here.\nGod has uniquely shaped you—with gifts\, passions and experiences that matter. When you use them to serve others\, something beautiful happens: lives are touched\, community grows and faith comes alive. If you’ve been wondering where you fit\, longing to give back or hoping to find deeper connection and purpose\, Serve: Discover is your first step. \nWhat you can expect\nThis isn’t about filling a spot or signing up for something before you’re ready. It’s about discovering where you might naturally belong. Whether you love welcoming people\, enjoy brewing coffee\, have leadership gifts or feel called to invest in kids and students\, there’s a place for you to get involved. \nAt Serve: Discover\, you will: \n\nLearn about serving: Discover the expectations\, opportunities and impact of serving at Wooddale.\nExplore serving options: Learn about the different serve teams and ministries you could be part of.\nDiscover your fit: Reflect on your gifts and passions and how they can be used to bless others in meaningful ways.\n\nWho this is for\nThis class is for everyone—whether you’re new to Wooddale\, have been here for years\, or are simply curious about serving. If you’re unsure where you want to serve\, that’s completely okay. Serve: Discover is a no-pressure space to listen\, learn and take your next step at your own pace. \nLunch will be served during the class.
URL:https://wooddale.org/cal/serve-discover-7-12/
LOCATION:All Campus Locations
CATEGORIES:Events
END:VEVENT
BEGIN:VEVENT
DTSTART;TZID=America/Chicago:20260715T183000
DTEND;TZID=America/Chicago:20260715T200000
DTSTAMP:20260422T105117
CREATED:20250728T140915Z
LAST-MODIFIED:20250728T140916Z
UID:10001258-1784140200-1784145600@wooddale.org
SUMMARY:Senior High Summer @ the Park
DESCRIPTION:Looking for a fun way to spend your summer evenings? Join us Wednesday nights from 6:30–8 p.m. at Riley Lake Park for Summer @ the Park — a relaxed hangout just for 10th–12th grade students. \nWe’ll have games\, snacks\, devotions and plenty of time to connect with friends. It’s the perfect midweek break to enjoy the outdoors\, have meaningful conversations and grow in community. \nBring a friend and come be part of something awesome this summer.
URL:https://wooddale.org/cal/sh-summer-park-archived-5/
LOCATION:Offsite
CATEGORIES:Events
END:VEVENT
BEGIN:VEVENT
DTSTART;TZID=America/Chicago:20260719T113000
DTEND;TZID=America/Chicago:20260719T130000
DTSTAMP:20260422T105117
CREATED:20260417T154815Z
LAST-MODIFIED:20260417T154848Z
UID:10001353-1784460600-1784466000@wooddale.org
SUMMARY:Junior High Sunday Funday
DESCRIPTION:Ready to keep the Friday energy going all the way through the weekend? We’re leveling up your Sunday with an after-church hang that’s actually worth sticking around for. Sunday Funday is officially taking over the Wooddale courtyard\, and we’re bringing plenty of pizza\, cold soda and high-energy games to make sure the party doesn’t stop. It’s the perfect time to chill with your friends\, soak in the sun and grab some food before the week starts. No stress and no complicated plans—just show up ready to hang out and we’ll handle the rest! \n$5 at door | No registration needed
URL:https://wooddale.org/cal/jh-sunday-funday/
LOCATION:Eden Prairie Campus\, 6630 Shady Oak Rd\, Eden Prairie\, MN\, 55344
CATEGORIES:Events
GEO:44.8812636;-93.4169101
X-APPLE-STRUCTURED-LOCATION;VALUE=URI;X-ADDRESS=Eden Prairie Campus 6630 Shady Oak Rd Eden Prairie MN 55344;X-APPLE-RADIUS=500;X-TITLE=6630 Shady Oak Rd:geo:-93.4169101,44.8812636
END:VEVENT
BEGIN:VEVENT
DTSTART;TZID=America/Chicago:20260719T123000
DTEND;TZID=America/Chicago:20260719T153000
DTSTAMP:20260422T105117
CREATED:20250716T151301Z
LAST-MODIFIED:20250716T151301Z
UID:10001174-1784464200-1784475000@wooddale.org
SUMMARY:4th Grade Beach Bash
DESCRIPTION:Get ready for some summer fun! Your 4th grader and their friends are invited to our exclusive Beach Bash at Bryant Lake Beach! It’s going to be an awesome time filled with great food\, water games and hanging out with friends. \nWhat you need to know: \n\nLocation: Bryant Lake Beach\, 6800 Rowland Rd Eden Prairie\, MN\nCost: $10 per child\nLunch: We’ll provide pizza\, water and fruit. Please let us know about any food allergies when you register.\nWhat to bring: A towel\, a swimsuit and a life jacket if your child is not a strong swimmer (life jackets are not required for water games).\nDrop-off/Pick-up: Please drop off and pick up your child directly at the beach.\n\nReady to join the fun? \nBe sure to register your child and invite their friends to register as well! We can’t wait to see your 4th grader and their friends at the Beach Bash!
URL:https://wooddale.org/cal/4-grade-beach-bash/
LOCATION:Eden Prairie Campus\, 6630 Shady Oak Rd\, Eden Prairie\, MN\, 55344
CATEGORIES:Events
GEO:44.8812636;-93.4169101
X-APPLE-STRUCTURED-LOCATION;VALUE=URI;X-ADDRESS=Eden Prairie Campus 6630 Shady Oak Rd Eden Prairie MN 55344;X-APPLE-RADIUS=500;X-TITLE=6630 Shady Oak Rd:geo:-93.4169101,44.8812636
END:VEVENT
BEGIN:VEVENT
DTSTART;TZID=America/Chicago:20260719T180000
DTEND;TZID=America/Chicago:20260719T190000
DTSTAMP:20260422T105117
CREATED:20241218T194622Z
LAST-MODIFIED:20250808T194441Z
UID:10001026-1784484000-1784487600@wooddale.org
SUMMARY:Outdoor Worship Night
DESCRIPTION:An exciting Worship Night outdoors with live music\, delicious food and fun activities. The event will be held on the grassy area outside Door 5\, near the pickleball courts. \nPlease bring your own blankets and chairs for a memorable evening. \nJuly 19 |  6 p.m.\nEden Prairie campus
URL:https://wooddale.org/cal/modern-worship-night-7-19/
LOCATION:Eden Prairie Campus\, 6630 Shady Oak Rd\, Eden Prairie\, MN\, 55344
CATEGORIES:Events
GEO:44.8812636;-93.4169101
X-APPLE-STRUCTURED-LOCATION;VALUE=URI;X-ADDRESS=Eden Prairie Campus 6630 Shady Oak Rd Eden Prairie MN 55344;X-APPLE-RADIUS=500;X-TITLE=6630 Shady Oak Rd:geo:-93.4169101,44.8812636
END:VEVENT
BEGIN:VEVENT
DTSTART;TZID=America/Chicago:20260722T183000
DTEND;TZID=America/Chicago:20260722T200000
DTSTAMP:20260422T105117
CREATED:20250728T140916Z
LAST-MODIFIED:20250728T140917Z
UID:10001259-1784745000-1784750400@wooddale.org
SUMMARY:Senior High Summer @ the Park
DESCRIPTION:Looking for a fun way to spend your summer evenings? Join us Wednesday nights from 6:30–8 p.m. at Riley Lake Park for Summer @ the Park — a relaxed hangout just for 10th–12th grade students. \nWe’ll have games\, snacks\, devotions and plenty of time to connect with friends. It’s the perfect midweek break to enjoy the outdoors\, have meaningful conversations and grow in community. \nBring a friend and come be part of something awesome this summer.
URL:https://wooddale.org/cal/sh-summer-park-archived-6/
LOCATION:Offsite
CATEGORIES:Events
END:VEVENT
BEGIN:VEVENT
DTSTART;TZID=America/Chicago:20260722T183000
DTEND;TZID=America/Chicago:20260722T203000
DTSTAMP:20260422T105117
CREATED:20250716T150304Z
LAST-MODIFIED:20250716T172000Z
UID:10001136-1784745000-1784752200@wooddale.org
SUMMARY:5/6 Backyard Hangout
DESCRIPTION:During the summer\, our 5th- and 6th-grade students like to hang out together. We will be at students’ homes to play games and enjoy snacks. No registration needed. $5 at the door.
URL:https://wooddale.org/cal/backyard-hangout-july-22-2026/
LOCATION:Offsite
CATEGORIES:Events
END:VEVENT
BEGIN:VEVENT
DTSTART;VALUE=DATE:20260724
DTEND;VALUE=DATE:20260727
DTSTAMP:20260422T105117
CREATED:20250728T140916Z
LAST-MODIFIED:20260417T153107Z
UID:10001260-1784851200-1785110399@wooddale.org
SUMMARY:Senior High Heat Retreat
DESCRIPTION:Senior High Heat Retreat is the summer camp experience you don’t want to miss. \nYou’ll get the best mix of high-energy fun\, meaningful worship\, time with friends and space to grow in your faith—all at Lake Beauty Bible Camp. From awesome chapel sessions to lake time\, night games and everything in between\, this is your chance to hit pause on the chaos of life and soak up an unforgettable summer weekend. \nIt’s just for 10th–12th grade students and it’s going to be a blast. \nCost is $210 if you register by May 31 or $225 after. Sign up\, bring a friend and get ready for a weekend you’ll never forget.
URL:https://wooddale.org/cal/sh-heat-retreat/
LOCATION:Offsite
CATEGORIES:Events
END:VEVENT
BEGIN:VEVENT
DTSTART;TZID=America/Chicago:20260726T000000
DTEND;TZID=America/Chicago:20260726T000000
DTSTAMP:20260422T105117
CREATED:20250716T151300Z
LAST-MODIFIED:20260406T122919Z
UID:10001173-1785024000-1785024000@wooddale.org
SUMMARY:Parent-Child Dedication
DESCRIPTION:When you dedicate your child to the Lord\, you are giving thanks to God and committing to faithfully raise your child in a godly home. But it’s more than that. The church is also making a commitment to cherish and pray for your child — and for you as parents — and partner with you in your child’s faith development. Dedicating your child to the Lord is an act of faith and a special moment of encouragement for parents and the congregation. \nWooddale Church offers dedications for infants and young children in our worship services on a quarterly basis. To dedicate your child\, you must first participate in the Parent-Child Dedication Class. \nEden Prairie registration: Room 147 at 9 a.m. \nEdina registration: Great Room at 11:50 a.m.
URL:https://wooddale.org/cal/parent-child-dedication-july-2026/
LOCATION:All Campus Locations
CATEGORIES:Events
END:VEVENT
BEGIN:VEVENT
DTSTART;TZID=America/Chicago:20260729T183000
DTEND;TZID=America/Chicago:20260729T200000
DTSTAMP:20260422T105117
CREATED:20250728T140917Z
LAST-MODIFIED:20250728T141015Z
UID:10001261-1785349800-1785355200@wooddale.org
SUMMARY:Senior High Summer @ the Park
DESCRIPTION:Looking for a fun way to spend your summer evenings? Join us Wednesday nights from 6:30–8 p.m. at Riley Lake Park for Summer @ the Park — a relaxed hangout just for 10th–12th grade students. \nWe’ll have games\, snacks\, devotions and plenty of time to connect with friends. It’s the perfect midweek break to enjoy the outdoors\, have meaningful conversations and grow in community. \nBring a friend and come be part of something awesome this summer.
URL:https://wooddale.org/cal/sh-summer-park-archived-7/
LOCATION:Offsite
CATEGORIES:Events
END:VEVENT
END:VCALENDAR